BEGIN:VCALENDAR
VERSION:2.0
PRODID:-//wp-events-plugin.com//6.6.4//EN
BEGIN:VEVENT
UID:17@golfmatalenas.es
DTSTART;TZID=Europe/Madrid:20260319T000000
DTEND;TZID=Europe/Madrid:20260319T000000
DTSTAMP:20260325T081954Z
URL:https://golfmatalenas.es/events/1er-torneo-ligas-del-club-damas-y-caba
 lleros/
SUMMARY:Torneo Apertura de las Ligas del Club (Damas y Caballeros)
DESCRIPTION:Información del "Torneo Apertura Ligas Sénior y Damas del Clu
 b de Golf Mataleñas"\nClasificación Hándicap&nbsp\; Liga Damas\n[pdf-em
 bedder url="https://golfmatalenas.es/wp-content/uploads/2026/03/19-03-2026
 -Clasificacion-Handicap-1aPuntuable-Liga-Damas.pdf" title="19-03-2026 Clas
 ificación Hándicap- 1ªPuntuable Liga Damas"]\nClasificación Hándicap 
 Liga Sénior\n[pdf-embedder url="https://golfmatalenas.es/wp-content/uploa
 ds/2026/03/19-03-2026-Clasificacion-Handicap-1aPuntuable-Liga-Senior.pdf" 
 title="19-03-2026 Clasificación Hándicap- 1ªPuntuable Liga Sénior"]\nC
 lasificación Bruto&nbsp\; 18 hoyos Liga Damas\n[pdf-embedder url="https:/
 /golfmatalenas.es/wp-content/uploads/2026/03/19-03-2026-Clasificacion-Scra
 tch-1aPuntuable-Liga-Damas.pdf" title="19-03-2026 Clasificación Scratch 1
 ªPuntuable Liga Damas"]\nClasificación Bruto&nbsp\; 18 hoyos Liga Sénio
 r\n[pdf-embedder url="https://golfmatalenas.es/wp-content/uploads/2026/03/
 19-03-2026-Clasificacion-Scratch-1o-Puntuable-Liga-Senior.pdf" title="19-0
 3-2026 Clasificación Scratch 1º Puntuable Liga Sénior"]\nClasificación
  Hándicap&nbsp\; 9 hoyos\n[pdf-embedder url="https://golfmatalenas.es/wp-
 content/uploads/2026/03/19-03-2026-CLSIF.HANDICAP-9HOYOS.pdf" title="19-03
 -2026 CLSIF.HANDICAP 9HOYOS"]\nClasificación Bruto 9 hoyos\n[pdf-embedder
  url="https://golfmatalenas.es/wp-content/uploads/2026/03/19-03-2026-CLASI
 F.BRUTO-9HOYOS.pdf" title="19-03-2026 CLASIF.BRUTO 9HOYOS"]\nHorario de Sa
 lidas turno de Mañana 18 Hoyos\n[pdf-embedder url="https://golfmatalenas.
 es/wp-content/uploads/2026/03/2026-03-19-Horarios-salida-18-hoyos-manana.p
 df" title="2026-03-19 Horarios salida 18 hoyos mañana"]\nHorario de Salid
 as turno de Mediodía18 Hoyos\n[pdf-embedder url="https://golfmatalenas.es
 /wp-content/uploads/2026/03/2026-03-19-Horario-salida-18-hoyos-mediodia.pd
 f" title="2026-03-19 Horario salida 18 hoyos mediodia"]\n\n[pdf-embedder u
 rl="https://golfmatalenas.es/wp-content/uploads/2026/03/2026-03-19-Horario
 -salida-9hoyos.pdf" title="2026-03-19 Horario salida 9hoyos"]\nRelación d
 e Inscritos/as 18 hoyos\n[pdf-embedder url="https://golfmatalenas.es/wp-co
 ntent/uploads/2026/03/Relacion-de-Inscritos-as-18-Hoyos.pdf" title="Relaci
 ón de Inscritos-as 18 Hoyos"]\nRelación de Inscritos/as 9 hoyos\n[pdf-em
 bedder url="https://golfmatalenas.es/wp-content/uploads/2026/03/Relacion-d
 e-Inscritos-as-9-hoyos.pdf" title="Relación de Inscritos-as 9 hoyos"]\n\n
  	Reglamento Torneo Apertura\n\nReglamento del Torneo Apertura de las Liga
 s Sénior y Damas del Club\n[pdf-embedder url="https://golfmatalenas.es/wp
 -content/uploads/2026/03/Reglamento-del-Torneo-Apertura-Ligas-del-Club-202
 6.pdf" title="Reglamento del Torneo Apertura Ligas del Club 2026"]\nReglam
 ento General del Ranking y Ligas Sénior y Damas del Club\n&nbsp\;
ATTACH;FMTTYPE=image/jpeg:https://golfmatalenas.es/wp-content/uploads/2025
 /05/h6-2.jpg
CATEGORIES:Absolutos
LOCATION:Campo Municipal de Golf “Mataleñas” Santander\, Av. del Faro\
 , s/n\, Santander\, Cantabria\, Santander\, Cantabria\, 39012 \, España
X-APPLE-STRUCTURED-LOCATION;VALUE=URI;X-ADDRESS=Av. del Faro\, s/n\, Santan
 der\, Cantabria\, Santander\, Cantabria\, 39012 \, España;X-APPLE-RADIUS=
 100;X-TITLE=Campo Municipal de Golf “Mataleñas” Santander:geo:0,0
END:VEVENT
BEGIN:VTIMEZONE
TZID:Europe/Madrid
X-LIC-LOCATION:Europe/Madrid
BEGIN:STANDARD
DTSTART:20251026T020000
TZOFFSETFROM:+0200
TZOFFSETTO:+0100
TZNAME:CET
END:STANDARD
END:VTIMEZONE
END:VCALENDAR