BEGIN:VCALENDAR
VERSION:2.0
PRODID:-//wp-events-plugin.com//6.6.4//EN
BEGIN:VEVENT
UID:14@golfmatalenas.es
DTSTART;TZID=Europe/Madrid;VALUE=DATE:20260207
DTEND;TZID=Europe/Madrid;VALUE=DATE:20260208
DTSTAMP:20260207T211221Z
URL:https://golfmatalenas.es/events/2o-puntuable-regional-de-pitchputt/
SUMMARY:2º Puntuable Regional de Pitch&Putt
DESCRIPTION:&nbsp\;Horario de Salidas\nHorario Salidas 2º Puntuable Region
 al de Pitch&amp\;Putt 2026\n[pdf-embedder url="https://golfmatalenas.es/wp
 -content/uploads/2026/02/Horario-Salida-07-02-2026-1.pdf" title="Horario S
 alida 07-02-2026 1"]\n\n[pdf-embedder url="https://golfmatalenas.es/wp-con
 tent/uploads/2026/02/Horario-Salida-07-02-2026-2.pdf" title="Horario Salid
 a 07-02-2026 2"]\nResultados Stroke Play Femenino\n[pdf-embedder url="http
 s://golfmatalenas.es/wp-content/uploads/2026/02/Stroke-Play-2aPble-PP-Dama
 s.pdf" title="Stroke Play 2ªPble P&amp\;P Damas"]\nResultados Medal Neto 
 Femenino\n[pdf-embedder url="https://golfmatalenas.es/wp-content/uploads/2
 026/02/Medal-Neto-2a-Pble-PP-Damas.pdf" title="Medal Neto 2ª Pble P&amp\;
 P Damas"]\nResultados Stroke Play Masculino\n[pdf-embedder url="https://go
 lfmatalenas.es/wp-content/uploads/2026/02/Stroke-Play-2aPble-PP-Caballeros
 .pdf" title="Stroke Play 2ªPble P&amp\;P Caballeros"]\nResultados Medal N
 eto Masculino\n[pdf-embedder url="https://golfmatalenas.es/wp-content/uplo
 ads/2026/02/Medal-Neto-2a-Pble-PP-Caballeros.pdf" title="Medal Neto 2ª Pb
 le P&amp\;P Caballeros"]
CATEGORIES:Pitch&amp;Putt
END:VEVENT
BEGIN:VTIMEZONE
TZID:Europe/Madrid
X-LIC-LOCATION:Europe/Madrid
BEGIN:STANDARD
DTSTART:20251026T020000
TZOFFSETFROM:+0200
TZOFFSETTO:+0100
TZNAME:CET
END:STANDARD
END:VTIMEZONE
END:VCALENDAR