BEGIN:VCALENDAR
VERSION:2.0
PRODID:-//wp-events-plugin.com//6.6.4//EN
BEGIN:VEVENT
UID:20@golfmatalenas.es
DTSTART;TZID=Europe/Madrid:20260409T000000
DTEND;TZID=Europe/Madrid:20260409T000000
DTSTAMP:20260410T173851Z
URL:https://golfmatalenas.es/events/2o-torneo-ligas-club-damas-y-caballero
 s-2/
SUMMARY:2º Torneo Ligas Club (Damas y Caballeros)
DESCRIPTION:\n 	HORARIO SALIDA 18 HOYOS\n 	HORARIO SALIDA 9 HOYOS\n 	CLASIF
  HANDICAP 18 HOYOS\n 	CLASIF SCRATCH 18 HOYOS\n 	CLASIF HCP Y SCRATCH 9 HO
 YOS\n\n&nbsp\;\n\n&nbsp\;\nCLASIFICACIONES HANDICAP DAMAS Y CABALLEROS 18 
 HOYOS\n[pdf-embedder url="https://golfmatalenas.es/wp-content/uploads/2026
 /02/CLASIFI-handicap-2o-JORNADA-18-HOYOS.pdf" title="CLASIFI handicap 2º 
 JORNADA 18 HOYOS"]\nCLASIFICACIONES SCRATCH DAMAS Y CABALLEROS 18 HOYOS\n[
 pdf-embedder url="https://golfmatalenas.es/wp-content/uploads/2026/02/CLAS
 IFI-scratch-2o-JORNADA-18-HOYOS.pdf" title="CLASIFI scratch 2º JORNADA 18
  HOYOS"]\nCLASIFICACIONES HCP Y SCRATCH DAMAS Y CABALLEROS 9 HOYOS\n[pdf-e
 mbedder url="https://golfmatalenas.es/wp-content/uploads/2026/02/CLASIF-2o
 -JORNADA-9HOYOS.pdf" title="CLASIF 2º JORNADA 9HOYOS"]\n2º TORNEO LIGAS 
 CLUB&nbsp\; MATALEÑAS&nbsp\; DAMAS Y CABALLEROS 18 HOYOS\n[pdf-embedder u
 rl="https://golfmatalenas.es/wp-content/uploads/2026/04/09-04-2026-HORARIO
 S-SALIDA-18-HOYOS-2oTORNEO-LIGAS-CLUB-DAMS-Y-CABALLEROS-2.pdf" title="09-0
 4-2026 HORARIOS SALIDA 18 HOYOS 2ºTORNEO LIGAS CLUB DAMS Y CABALLEROS"]\n
 2º TORNEO LIGAS CLUB&nbsp\; MATALEÑAS&nbsp\; DAMAS Y CABALLEROS 9 HOYOS\
 n[pdf-embedder url="https://golfmatalenas.es/wp-content/uploads/2026/04/09
 -04-2026-HORARIOS-SALIDA-9-HOYOS-2oTORNEO-LIGAS-CLUB-DAMS-Y-CABALLEROS-1.p
 df" title="09-04-2026 HORARIOS SALIDA 9 HOYOS 2ºTORNEO LIGAS CLUB DAMS Y 
 CABALLEROS"]\n\n&nbsp\;\n\n&nbsp\;\n\n&nbsp\;
CATEGORIES:Absolutos
END:VEVENT
BEGIN:VTIMEZONE
TZID:Europe/Madrid
X-LIC-LOCATION:Europe/Madrid
BEGIN:DAYLIGHT
DTSTART:20260329T030000
TZOFFSETFROM:+0100
TZOFFSETTO:+0200
TZNAME:CEST
END:DAYLIGHT
END:VTIMEZONE
END:VCALENDAR