BEGIN:VCALENDAR
VERSION:2.0
PRODID:-//wp-events-plugin.com//6.6.4//EN
BEGIN:VEVENT
UID:16@golfmatalenas.es
DTSTART;TZID=Europe/Madrid;VALUE=DATE:20260307
DTEND;TZID=Europe/Madrid;VALUE=DATE:20260308
DTSTAMP:20260305T144804Z
URL:https://golfmatalenas.es/events/campeonato-regional-4a-categoria-mascu
 lina/
SUMMARY:Campeonato Regional 4ª Categoría masculina
DESCRIPTION:
ATTACH;FMTTYPE=image/jpeg:https://golfmatalenas.es/wp-content/uploads/2025
 /05/h4-4.jpg
CATEGORIES:Absolutos
LOCATION:Campo Municipal de Golf “Mataleñas” Santander\, Av. del Faro\
 , s/n\, Santander\, Cantabria\, Santander\, Cantabria\, 39012 \, España
X-APPLE-STRUCTURED-LOCATION;VALUE=URI;X-ADDRESS=Av. del Faro\, s/n\, Santan
 der\, Cantabria\, Santander\, Cantabria\, 39012 \, España;X-APPLE-RADIUS=
 100;X-TITLE=Campo Municipal de Golf “Mataleñas” Santander:geo:0,0
END:VEVENT
BEGIN:VTIMEZONE
TZID:Europe/Madrid
X-LIC-LOCATION:Europe/Madrid
BEGIN:STANDARD
DTSTART:20251026T020000
TZOFFSETFROM:+0200
TZOFFSETTO:+0100
TZNAME:CET
END:STANDARD
END:VTIMEZONE
END:VCALENDAR