BEGIN:VCALENDAR
VERSION:2.0
PRODID:-//wp-events-plugin.com//6.6.4//EN
BEGIN:VEVENT
UID:23@golfmatalenas.es
DTSTART;TZID=Europe/Madrid:20260510T000000
DTEND;TZID=Europe/Madrid:20260510T000000
DTSTAMP:20260205T145739Z
URL:https://golfmatalenas.es/events/campeonato-regional-femenino-1a-2a-3a-
 y-4a/
SUMMARY:Campeonato Regional Femenino (1ª\, 2ª\, 3ª y 4ª)
DESCRIPTION:
CATEGORIES:Absolutos
END:VEVENT
BEGIN:VTIMEZONE
TZID:Europe/Madrid
X-LIC-LOCATION:Europe/Madrid
BEGIN:DAYLIGHT
DTSTART:20260329T030000
TZOFFSETFROM:+0100
TZOFFSETTO:+0200
TZNAME:CEST
END:DAYLIGHT
END:VTIMEZONE
END:VCALENDAR