BEGIN:VCALENDAR
VERSION:2.0
PRODID:-//wp-events-plugin.com//6.6.4//EN
BEGIN:VEVENT
UID:33@golfmatalenas.es
DTSTART;TZID=Europe/Madrid:20260818T000000
DTEND;TZID=Europe/Madrid:20260819T000000
DTSTAMP:20260205T150646Z
URL:https://golfmatalenas.es/events/campeonato-regional-individual-infanti
 l-alevin-y-benjamin/
SUMMARY:Campeonato Regional Individual (Infantil\, alevín y benjamín)
DESCRIPTION:
CATEGORIES:Juveniles
END:VEVENT
BEGIN:VTIMEZONE
TZID:Europe/Madrid
X-LIC-LOCATION:Europe/Madrid
BEGIN:DAYLIGHT
DTSTART:20260329T030000
TZOFFSETFROM:+0100
TZOFFSETTO:+0200
TZNAME:CEST
END:DAYLIGHT
END:VTIMEZONE
END:VCALENDAR