BEGIN:VCALENDAR
VERSION:2.0
PRODID:-//wp-events-plugin.com//6.6.4//EN
BEGIN:VEVENT
UID:27@golfmatalenas.es
DTSTART;TZID=Europe/Madrid:20260606T000000
DTEND;TZID=Europe/Madrid:20260607T000000
DTSTAMP:20260205T150116Z
URL:https://golfmatalenas.es/events/campeonato-regional-pp-masculino-y-fem
 enino/
SUMMARY:Campeonato Regional P&P Masculino y Femenino
DESCRIPTION:
CATEGORIES:Pitch&amp;Putt
END:VEVENT
BEGIN:VTIMEZONE
TZID:Europe/Madrid
X-LIC-LOCATION:Europe/Madrid
BEGIN:DAYLIGHT
DTSTART:20260329T030000
TZOFFSETFROM:+0100
TZOFFSETTO:+0200
TZNAME:CEST
END:DAYLIGHT
END:VTIMEZONE
END:VCALENDAR