BEGIN:VCALENDAR
VERSION:2.0
PRODID:-//wp-events-plugin.com//6.6.4//EN
BEGIN:VEVENT
UID:35@golfmatalenas.es
DTSTART;TZID=Europe/Madrid:20260906T000000
DTEND;TZID=Europe/Madrid:20260906T000000
DTSTAMP:20260205T150837Z
URL:https://golfmatalenas.es/events/campeonato-regional-senior-masculino-y
 -femenino/
SUMMARY:Campeonato Regional Senior (masculino y femenino)
DESCRIPTION:
CATEGORIES:Absolutos
END:VEVENT
BEGIN:VTIMEZONE
TZID:Europe/Madrid
X-LIC-LOCATION:Europe/Madrid
BEGIN:DAYLIGHT
DTSTART:20260329T030000
TZOFFSETFROM:+0100
TZOFFSETTO:+0200
TZNAME:CEST
END:DAYLIGHT
END:VTIMEZONE
END:VCALENDAR