BEGIN:VCALENDAR
VERSION:2.0
PRODID:-//wp-events-plugin.com//6.6.4//EN
BEGIN:VEVENT
UID:19@golfmatalenas.es
DTSTART;TZID=Europe/Madrid;VALUE=DATE:20260401
DTEND;TZID=Europe/Madrid;VALUE=DATE:20260402
DTSTAMP:20260205T144935Z
URL:https://golfmatalenas.es/events/circuito-jovenes-promesas-alevines-y-b
 enjamines-2/
SUMMARY:Circuito Jóvenes Promesas (alevines y benjamines)
DESCRIPTION:
CATEGORIES:Juveniles
END:VEVENT
BEGIN:VTIMEZONE
TZID:Europe/Madrid
X-LIC-LOCATION:Europe/Madrid
BEGIN:DAYLIGHT
DTSTART:20260329T030000
TZOFFSETFROM:+0100
TZOFFSETTO:+0200
TZNAME:CEST
END:DAYLIGHT
END:VTIMEZONE
END:VCALENDAR