BEGIN:VCALENDAR
VERSION:2.0
PRODID:-//wp-events-plugin.com//6.6.4//EN
BEGIN:VEVENT
UID:15@golfmatalenas.es
DTSTART;TZID=Europe/Madrid;VALUE=DATE:20260219
DTEND;TZID=Europe/Madrid;VALUE=DATE:20260220
DTSTAMP:20260205T144220Z
URL:https://golfmatalenas.es/events/circuito-jovenes-promesas-alevines-y-b
 enjamines/
SUMMARY:Circuito Jóvenes Promesas (alevines y benjamines)
DESCRIPTION:
CATEGORIES:Juveniles
END:VEVENT
BEGIN:VTIMEZONE
TZID:Europe/Madrid
X-LIC-LOCATION:Europe/Madrid
BEGIN:STANDARD
DTSTART:20251026T020000
TZOFFSETFROM:+0200
TZOFFSETTO:+0100
TZNAME:CET
END:STANDARD
END:VTIMEZONE
END:VCALENDAR