BEGIN:VCALENDAR
VERSION:2.0
PRODID:-//wp-events-plugin.com//6.6.4//EN
BEGIN:VEVENT
UID:4@golfmatalenas.es
DTSTART;TZID=Europe/Madrid;VALUE=DATE:20250301
DTEND;TZID=Europe/Madrid;VALUE=DATE:20250303
DTSTAMP:20250302T132100Z
URL:https://golfmatalenas.es/events/copa-matalenas-pitchputt-2025/
SUMMARY:Copa Mataleñas Pitch&Putt 2025
DESCRIPTION:Información de la Copa Mataleñas de Pitch&amp\;Putt 2025 que 
 se celebrará los días 1 y 2 de marzo.\n\n 	Reglamento\n 	Horarios Salida
 s Sábado 01/03/2025\n 	Clasificación Sábado 01/03/2025\n 	Horarios Sali
 da 02/03/2025\n 	Clasificación Domingo 02/03/2025\n 	Clasificación Total
  Agregada 02/03/2025\n\n[pdf-embedder url="https://golfmatalenas.es/wp-con
 tent/uploads/2025/02/Reglamento-Copa-Matalenas-de-PitchPutt-2025-1.pdf" ti
 tle="Reglamento Copa Mataleñas de Pitch&amp\;Putt 2025"]\nHorarios de sal
 ida sábado 01/03/2025\n[pdf-embedder url="https://golfmatalenas.es/wp-con
 tent/uploads/2025/02/Horario-salida-1.pdf" title="Horario salida"]\nClasif
 icación Sábado 01/03/2025\n[pdf-embedder url="https://golfmatalenas.es/w
 p-content/uploads/2025/02/CLASI.-MEDAL-NETO-PITCHPUTT.pdf" title="CLASI. M
 EDAL NETO PITCH$PUTT"]\nHorarios de salida domingo 02/03/2025\n[pdf-embedd
 er url="https://golfmatalenas.es/wp-content/uploads/2025/02/SALIDAS-2a-JOR
 NADA-PITCHPUTT.pdf" title="SALIDAS 2ª JORNADA PITCH$PUTT"]\nClasificació
 n Domingo 02/03/2025\n[pdf-embedder url="https://golfmatalenas.es/wp-conte
 nt/uploads/2025/02/Clasifi.-Medal-Neto-2a-Jornada-PP.pdf" title="Clasifi. 
 Medal Neto 2ª Jornada P$P"]\nClasificación Total Agregada 02/03/2025\n[p
 df-embedder url="https://golfmatalenas.es/wp-content/uploads/2025/02/Clasi
 fi-Medal-Neto-Agregada-PP.pdf" title="Clasifi Medal Neto Agregada P$P"]
CATEGORIES:Pitch&amp;Putt
LOCATION:Campo Municipal de Golf Mataleñas\, Av. del Faro\, s/n\, Santande
 r\, 39012\, Cantabria\, España
X-APPLE-STRUCTURED-LOCATION;VALUE=URI;X-ADDRESS=Av. del Faro\, s/n\, Santan
 der\, 39012\, Cantabria\, España;X-APPLE-RADIUS=100;X-TITLE=Campo Municip
 al de Golf Mataleñas:geo:0,0
END:VEVENT
BEGIN:VTIMEZONE
TZID:Europe/Madrid
X-LIC-LOCATION:Europe/Madrid
BEGIN:STANDARD
DTSTART:20241027T020000
TZOFFSETFROM:+0200
TZOFFSETTO:+0100
TZNAME:CET
END:STANDARD
END:VTIMEZONE
END:VCALENDAR