BEGIN:VCALENDAR
VERSION:2.0
PRODID:-//wp-events-plugin.com//6.6.4//EN
BEGIN:VEVENT
UID:39@golfmatalenas.es
DTSTART;TZID=Europe/Madrid:20261106T000000
DTEND;TZID=Europe/Madrid:20261106T000000
DTSTAMP:20260205T151213Z
URL:https://golfmatalenas.es/events/entrega-premios-anual-golf-matalenas/
SUMMARY:Entrega Premios Anual Golf Mataleñas
DESCRIPTION:
CATEGORIES:Absolutos,Juveniles,Pitch&amp;Putt
END:VEVENT
BEGIN:VTIMEZONE
TZID:Europe/Madrid
X-LIC-LOCATION:Europe/Madrid
BEGIN:STANDARD
DTSTART:20261025T020000
TZOFFSETFROM:+0200
TZOFFSETTO:+0100
TZNAME:CET
END:STANDARD
END:VTIMEZONE
END:VCALENDAR