BEGIN:VCALENDAR
VERSION:2.0
PRODID:-//wp-events-plugin.com//6.6.4//EN
BEGIN:VEVENT
UID:13@golfmatalenas.es
DTSTART;TZID=Europe/Madrid:20260117T083000
DTEND;TZID=Europe/Madrid:20260117T170000
DTSTAMP:20260119T160509Z
URL:https://golfmatalenas.es/events/i-puntuable-regional-de-pitchputt-2026
 /
SUMMARY:I Puntuable Regional de Pitch&Putt 2026
DESCRIPTION:&nbsp\;Horario de Salidas\nHorario Salidas I Puntuable Regional
  de Pitch&amp\;Putt 2026\n[pdf-embedder url="https://golfmatalenas.es/wp-c
 ontent/uploads/2026/01/Horario-Salida-17-01-2026-1.pdf" title="Horario Sal
 ida 17-01-2026 1"]\n\n[pdf-embedder url="https://golfmatalenas.es/wp-conte
 nt/uploads/2026/01/Horario-Salida-17-01-2026-2.pdf" title="Horario Salida 
 17-01-2026 2"]\nResultados Scratch General\n[pdf-embedder url="https://gol
 fmatalenas.es/wp-content/uploads/2026/01/I-Puntuable-Regional-de-PitchPutt
 -2026-Resultados-Scratch-General.pdf" title="I Puntuable Regional de Pitch
 &amp\;Putt 2026 - Resultados Scratch General"]\nResultados Hándicap Femen
 ino\n[pdf-embedder url="https://golfmatalenas.es/wp-content/uploads/2026/0
 1/I-Puntuable-Regional-de-PitchPutt-2026-Resultados-Handicap-Femenino.pdf"
  title="I Puntuable Regional de Pitch&amp\;Putt 2026 - Resultados Hándica
 p Femenino"]\nResultados Hándicap Masculino\n[pdf-embedder url="https://g
 olfmatalenas.es/wp-content/uploads/2026/01/I-Puntuable-Regional-de-PitchPu
 tt-2026-Resultados-Handicap-Masculino.pdf" title="I Puntuable Regional de 
 Pitch&amp\;Putt 2026 - Resultados Hándicap Masculino"]\n\n&nbsp\;
CATEGORIES:Pitch&amp;Putt
END:VEVENT
BEGIN:VTIMEZONE
TZID:Europe/Madrid
X-LIC-LOCATION:Europe/Madrid
BEGIN:STANDARD
DTSTART:20251026T020000
TZOFFSETFROM:+0200
TZOFFSETTO:+0100
TZNAME:CET
END:STANDARD
END:VTIMEZONE
END:VCALENDAR