BEGIN:VCALENDAR
VERSION:2.0
PRODID:-//wp-events-plugin.com//6.6.4//EN
BEGIN:VEVENT
UID:29@golfmatalenas.es
DTSTART;TZID=Europe/Madrid:20260622T000000
DTEND;TZID=Europe/Madrid:20260623T000000
DTSTAMP:20260205T150249Z
URL:https://golfmatalenas.es/events/mantenimiento-de-greenes-y-ante-greene
 s/
SUMMARY:Mantenimiento de Greenes y Ante-greenes
DESCRIPTION:
CATEGORIES:Tareas Mantenimiento
END:VEVENT
BEGIN:VTIMEZONE
TZID:Europe/Madrid
X-LIC-LOCATION:Europe/Madrid
BEGIN:DAYLIGHT
DTSTART:20260329T030000
TZOFFSETFROM:+0100
TZOFFSETTO:+0200
TZNAME:CEST
END:DAYLIGHT
END:VTIMEZONE
END:VCALENDAR