BEGIN:VCALENDAR
VERSION:2.0
PRODID:-//wp-events-plugin.com//6.6.4//EN
BEGIN:VEVENT
UID:28@golfmatalenas.es
DTSTART;TZID=Europe/Madrid:20260620T000000
DTEND;TZID=Europe/Madrid:20260621T000000
DTSTAMP:20260205T150208Z
URL:https://golfmatalenas.es/events/master-de-matalenas/
SUMMARY:Máster de Mataleñas
DESCRIPTION:
CATEGORIES:Absolutos
END:VEVENT
BEGIN:VTIMEZONE
TZID:Europe/Madrid
X-LIC-LOCATION:Europe/Madrid
BEGIN:DAYLIGHT
DTSTART:20260329T030000
TZOFFSETFROM:+0100
TZOFFSETTO:+0200
TZNAME:CEST
END:DAYLIGHT
END:VTIMEZONE
END:VCALENDAR