BEGIN:VCALENDAR
VERSION:2.0
PRODID:-//wp-events-plugin.com//6.6.4//EN
BEGIN:VEVENT
UID:8@golfmatalenas.es
DTSTART;TZID=Europe/Madrid;VALUE=DATE:20250621
DTEND;TZID=Europe/Madrid;VALUE=DATE:20250623
DTSTAMP:20250622T133537Z
URL:https://golfmatalenas.es/events/masters-de-matalenas-2025/
SUMMARY:Masters de Mataleñas 2025
DESCRIPTION:Información del Masters de Mataleñas 2025\n\nEl Miércoles 11
 /06/2025 se abre la inscripción para el torneo de categoría única cuyo 
 objetivo es determinar el campeón o campeona anual del Club\, que se cele
 brará los días 21/06/2021 y 22/06/2025.\n\nHabrá un detalle de bienveni
 da para todos los participantes.\n\n 	Reglamento\n 	Horario Salidas Sábad
 o&nbsp\;\n 	Resultados Sábado\n 	Horario Salidas Domingo\n 	Resultados Do
 mingo\n 	Clasificación Final\n\nENHORABUENA AL GANADOR MÁS JOVEN DE LA H
 ISTORIA DEL MÁSTER DE MATALEÑAS\n\n\nCLASIFICACIÓN FINAL\n[pdf-embedder
  url="https://golfmatalenas.es/wp-content/uploads/2025/06/22-06-2025-Clasi
 ficacion-Final.pdf" title="22-06-2025-Clasificación Final"]\nRESULTADOS D
 OMINGO 22/06/2026\n[pdf-embedder url="https://golfmatalenas.es/wp-content/
 uploads/2025/06/22-06-2025-Clasificacion.pdf" title="22-06-2025 Clasificac
 ión"]\nHORARIO DE SALIDA SÁBADO 21/06/2025\n[pdf-embedder url="https://g
 olfmatalenas.es/wp-content/uploads/2025/06/MASTER-HORARIO-SALIDA-SABADO.pd
 f" title="MASTER HORARIO SALIDA SABADO"]\nRESULTADOS SÁBADO 21/06/2026\n[
 pdf-embedder url="https://golfmatalenas.es/wp-content/uploads/2025/06/21-0
 6-2025-Clasificacion.pdf" title="21-06-2025 Clasificación"]\nHORARIO DE S
 ALIDA DOMINGO 22/06/2025\n[pdf-embedder url="https://golfmatalenas.es/wp-c
 ontent/uploads/2025/06/22-06-2025-Salidas.pdf" title="22-06-2025 Salidas"]
CATEGORIES:Absolutos
END:VEVENT
BEGIN:VTIMEZONE
TZID:Europe/Madrid
X-LIC-LOCATION:Europe/Madrid
BEGIN:DAYLIGHT
DTSTART:20250330T030000
TZOFFSETFROM:+0100
TZOFFSETTO:+0200
TZNAME:CEST
END:DAYLIGHT
END:VTIMEZONE
END:VCALENDAR