BEGIN:VCALENDAR
VERSION:2.0
PRODID:-//wp-events-plugin.com//6.6.4//EN
BEGIN:VEVENT
UID:21@golfmatalenas.es
DTSTART;TZID=Europe/Madrid:20260413T000000
DTEND;TZID=Europe/Madrid:20260424T000000
DTSTAMP:20260205T145451Z
URL:https://golfmatalenas.es/events/pinchado-de-greenes-putting-green-y-te
 es/
SUMMARY:Pinchado de Greenes\, Putting-green y Tees
DESCRIPTION:
CATEGORIES:Tareas Mantenimiento
END:VEVENT
BEGIN:VTIMEZONE
TZID:Europe/Madrid
X-LIC-LOCATION:Europe/Madrid
BEGIN:DAYLIGHT
DTSTART:20260329T030000
TZOFFSETFROM:+0100
TZOFFSETTO:+0200
TZNAME:CEST
END:DAYLIGHT
END:VTIMEZONE
END:VCALENDAR