BEGIN:VCALENDAR
VERSION:2.0
PRODID:-//wp-events-plugin.com//6.6.4//EN
BEGIN:VEVENT
UID:7@golfmatalenas.es
DTSTART;TZID=Europe/Madrid;VALUE=DATE:20250530
DTEND;TZID=Europe/Madrid;VALUE=DATE:20250601
DTSTAMP:20250601T145506Z
URL:https://golfmatalenas.es/events/torneo-aniversario-del-club-2025/
SUMMARY:Torneo Aniversario del Club - 2025
DESCRIPTION:Información del Torneo Aniversario del Club 2025\n\nEl Miérco
 les 21/05/2025 se abre la inscripción para el torneo que conmemora el ani
 versario del Club de Golf Mataleñas\, que se celebrará los días 30/05/2
 021 y 01/06/2025\, como podéis ver en el Reglamento se han incluido dos c
 ategoría de juveniles: 1ª con hándicap nacional y 2ª con hándicap no 
 nacional.\n\nHabrá un detalle de bienvenida para todos los participantes.
 \n\n 	Reglamento\n 	Horario Salidas Sábado&nbsp\;\n 	Horario Salidas Domi
 ngo\n 	Resultados Sábado\n 	Resultados Domingo\n\nClasificación Sábado 
 31/05/2025\n[pdf-embedder url="https://golfmatalenas.es/wp-content/uploads
 /2025/06/Clasificacion-Sabado-31-05-2025.pdf" title="Clasificación Sábad
 o 31-05-2025"]\nClasificación Domingo 01/06/2025\n[pdf-embedder url="http
 s://golfmatalenas.es/wp-content/uploads/2025/05/Clasificacion-Domingo-01-0
 6-2025.pdf" title="Clasificación Domingo 01-06-2025"]\nHorario Salida Sá
 bado 31/05/2025\n[pdf-embedder url="https://golfmatalenas.es/wp-content/up
 loads/2025/05/HORARIO-SABADO-T.-ANIVERSARIO.pdf" title="HORARIO SABADO T. 
 ANIVERSARIO"]\nHorario Salida Domingo 01/06/2025\n[pdf-embedder url="https
 ://golfmatalenas.es/wp-content/uploads/2025/05/HORARIO-DOMINGO-T.-ANIVERSA
 RIO.pdf" title="HORARIO DOMINGO T. ANIVERSARIO"]\n\n&nbsp\;
CATEGORIES:Absolutos
END:VEVENT
BEGIN:VTIMEZONE
TZID:Europe/Madrid
X-LIC-LOCATION:Europe/Madrid
BEGIN:DAYLIGHT
DTSTART:20250330T030000
TZOFFSETFROM:+0100
TZOFFSETTO:+0200
TZNAME:CEST
END:DAYLIGHT
END:VTIMEZONE
END:VCALENDAR