BEGIN:VCALENDAR
VERSION:2.0
PRODID:-//wp-events-plugin.com//6.6.4//EN
BEGIN:VEVENT
UID:9@golfmatalenas.es
DTSTART;TZID=Europe/Madrid:20250705T083000
DTEND;TZID=Europe/Madrid:20250706T143000
DTSTAMP:20250706T195824Z
URL:https://golfmatalenas.es/events/torneo-banos-de-ola/
SUMMARY:Torneo Baños de Ola
DESCRIPTION:Información del Torneo Baños de Ola 2025\n\nEl miércoles 24/
 06/2025 se abre la inscripción para el Torneo Baños de Ola\, patrocinado
  por el Ayuntamiento de Santander y organizado por el Club de Golf Matale
 ñas\, que se celebrará los días 05/07/2025 y 06/07/2025\, como podéis 
 ver en el Reglamento se ha incluido una categoría de juveniles\n\n 	Regla
 mento\n 	Horario Salidas Sábado&nbsp\;\n 	Horario Salidas Domingo\n 	Resu
 ltados Sábado\n 	Resultados Domingo\n\nTorneo Baños de Ola 2025 - Reglam
 ento\n[pdf-embedder url="https://golfmatalenas.es/wp-content/uploads/2025/
 06/Banos-de-Ola-2025-Reglamento.pdf" title="Baños de Ola-2025-Reglamento"
 ]\nHORARIO DE SALIDA SÁBADO 05/07/2025\n[pdf-embedder url="https://golfma
 talenas.es/wp-content/uploads/2025/07/05-07-2025-Horario-Sabado.pdf" title
 ="05-07-2025 Horario Sábado"]\nHORARIO DE SALIDA DOMINGO 06/07/2025\n[pdf
 -embedder url="https://golfmatalenas.es/wp-content/uploads/2025/07/06-07-2
 025-Horario-Domingo.pdf" title="06-07-2025 Horario Domingo"]\nCLASIFICACI
 ÓN SÁBADO 05/07/2025\n[pdf-embedder url="https://golfmatalenas.es/wp-con
 tent/uploads/2025/07/05-07-2025-Clasificacion-Sabado.pdf" title="05-07-202
 5 Clasificación Sábado"]\nCLASIFICACIÓN DOMINGO 06/07/2025\n[pdf-embedd
 er url="https://golfmatalenas.es/wp-content/uploads/2025/07/06-07-2025-Cla
 sificacion-Domingo.pdf" title="06-07-2025 Clasificación Domingo"]
CATEGORIES:Absolutos
END:VEVENT
BEGIN:VTIMEZONE
TZID:Europe/Madrid
X-LIC-LOCATION:Europe/Madrid
BEGIN:DAYLIGHT
DTSTART:20250330T030000
TZOFFSETFROM:+0100
TZOFFSETTO:+0200
TZNAME:CEST
END:DAYLIGHT
END:VTIMEZONE
END:VCALENDAR