BEGIN:VCALENDAR
VERSION:2.0
PRODID:-//wp-events-plugin.com//6.6.4//EN
BEGIN:VEVENT
UID:32@golfmatalenas.es
DTSTART;TZID=Europe/Madrid:20260801T000000
DTEND;TZID=Europe/Madrid:20260802T000000
DTSTAMP:20260205T150509Z
URL:https://golfmatalenas.es/events/torneo-ciudad-de-santander-2/
SUMMARY:Torneo Ciudad de Santander
DESCRIPTION:
CATEGORIES:Absolutos
END:VEVENT
BEGIN:VTIMEZONE
TZID:Europe/Madrid
X-LIC-LOCATION:Europe/Madrid
BEGIN:DAYLIGHT
DTSTART:20260329T030000
TZOFFSETFROM:+0100
TZOFFSETTO:+0200
TZNAME:CEST
END:DAYLIGHT
END:VTIMEZONE
END:VCALENDAR