BEGIN:VCALENDAR
VERSION:2.0
PRODID:-//wp-events-plugin.com//6.6.4//EN
BEGIN:VEVENT
UID:10@golfmatalenas.es
DTSTART;TZID=Europe/Madrid:20250802T090000
DTEND;TZID=Europe/Madrid:20250803T143000
DTSTAMP:20251105T110622Z
URL:https://golfmatalenas.es/events/torneo-ciudad-de-santander/
SUMMARY:Torneo Ciudad de Santander
DESCRIPTION:Información del Torneo Ciudad de Santander 2025\n\nEl miércol
 es 23/07/2025 se abre la inscripción para el Torneo Ciudad de Santander\,
  patrocinado por el Ayuntamiento de Santander y organizado por el Club de 
 Golf Mataleñas\, que se celebrará los días 02/08/2025 y 03/08/2025\, co
 mo podéis ver en el Reglamento se ha incluido una categoría de juveniles
 \n\n 	Reglamento\n 	Horario Salidas Sábado&nbsp\;\n 	Horario Salidas Domi
 ngo\n 	Clasificación Damas\n 	Clasificación 1ª Caballeros\n 	Clasificac
 ión 3ª Caballeros\n 	Resultados Domingo\n\n&nbsp\;\nHorario salidas domi
 ngo 03/08/2025\n[pdf-embedder url="https://golfmatalenas.es/wp-content/upl
 oads/2025/07/HORARIO-DOMINGO.pdf" title="HORARIO DOMINGO"]\n&nbsp\; &nbsp\
 ; &nbsp\; &nbsp\; Clasificación 2ª Caballeros y Juvenil\n[pdf-embedder u
 rl="https://golfmatalenas.es/wp-content/uploads/2025/08/03-08-2025-Clasifi
 cacion-2a-Caballeros-y-Juvenil.pdf" title="03-08-2025 Clasificación 2ª C
 aballeros y Juvenil"]\n&nbsp\; &nbsp\; &nbsp\; &nbsp\; Horario salidas sá
 bado 02/08/2025\n[pdf-embedder url="https://golfmatalenas.es/wp-content/up
 loads/2025/07/HORARIO-SABADO.pdf" title="HORARIO SABADO"]\n&nbsp\; &nbsp\;
  &nbsp\; &nbsp\; Clasificación Damas\n[pdf-embedder url="https://golfmata
 lenas.es/wp-content/uploads/2025/08/02-08-2025-Clasificacion-Damas.pdf" ti
 tle="02-08-2025 Clasificación Damas"]\n&nbsp\; &nbsp\; &nbsp\; &nbsp\; Cl
 asificación 1ª Caballeros\n[pdf-embedder url="https://golfmatalenas.es/w
 p-content/uploads/2025/08/02-08-2025-Clasificacion-1a-Caballeros.pdf" titl
 e="02-08-2025 Clasificación 1ª Caballeros"]\n&nbsp\; &nbsp\; &nbsp\; &nb
 sp\; Clasificación 3ª Caballeros\n[pdf-embedder url="https://golfmatalen
 as.es/wp-content/uploads/2025/08/02-08-2025-Clasificacion-3a-Caballeros.pd
 f" title="02-08-2025 Clasificación 3ª Caballeros"]\n&nbsp\; &nbsp\; &nbs
 p\; &nbsp\; Torneo Ciudad de Santander 2025 - Reglamento\n[pdf-embedder ur
 l="https://golfmatalenas.es/wp-content/uploads/2025/07/Ciudad-de-Santander
 -2025-Reglamento.pdf" title="Ciudad de Santander 2025-Reglamento"]
CATEGORIES:Absolutos
END:VEVENT
BEGIN:VTIMEZONE
TZID:Europe/Madrid
X-LIC-LOCATION:Europe/Madrid
BEGIN:DAYLIGHT
DTSTART:20250330T030000
TZOFFSETFROM:+0100
TZOFFSETTO:+0200
TZNAME:CEST
END:DAYLIGHT
END:VTIMEZONE
END:VCALENDAR