BEGIN:VCALENDAR
VERSION:2.0
PRODID:-//wp-events-plugin.com//6.6.4//EN
BEGIN:VEVENT
UID:12@golfmatalenas.es
DTSTART;TZID=Europe/Madrid:20251122T090000
DTEND;TZID=Europe/Madrid:20251123T173000
DTSTAMP:20251126T150006Z
URL:https://golfmatalenas.es/events/torneo-de-golf-navidad-2025-premio-clu
 b-bansander/
SUMMARY:Torneo de Golf "Navidad 2025" Premio Club Bansander
DESCRIPTION:Información del Torneo de Golf "Navidad 2025" Premio Club Bans
 ander\n\nEl miércoles 12/11/2025 se abre la inscripción para el Torneo d
 e Golf "Navidad 2025"\, patrocinado por el Club Bansander y organizado por
  el Club de Golf Mataleñas\, que se celebrará los días 22/11/2025 y 23/
 11/2025\n\n 	Reglamento\n 	Horario Salidas Sábado&nbsp\;\n 	Horario Salid
 as Domingo\n 	Clasificación Scratch Sábado\n 	Clasificación Hándicap S
 ábado\n 	Clasificación Scratch Domingo\n 	Clasificación Hándicap Domin
 go\n\n&nbsp\; &nbsp\; &nbsp\; &nbsp\; &nbsp\; Torneo de Golf "Navidad 2025
 " Premio Club Bansander - Reglamento\n[pdf-embedder url="https://golfmatal
 enas.es/wp-content/uploads/2025/11/T.-BANSANDER-2025.pdf" title="T. BANSAN
 DER 2025"]\n&nbsp\; &nbsp\; &nbsp\; &nbsp\; &nbsp\; Torneo de Golf "Navida
 d 2025" Premio Club Bansander - Salidas Sábado\n[pdf-embedder url="https:
 //golfmatalenas.es/wp-content/uploads/2025/11/Salidas-Sabado-BANSANDER.pdf
 " title="Salidas Sábado BANSANDER"]\n&nbsp\; &nbsp\; &nbsp\; &nbsp\; &nbs
 p\; Torneo de Golf "Navidad 2025" Premio Club Bansander - Salidas Domingo\
 n[pdf-embedder url="https://golfmatalenas.es/wp-content/uploads/2025/11/Sa
 lidas-Domingo-BANSANDER.pdf" title="Salidas Domingo BANSANDER"]\n&nbsp\; &
 nbsp\; &nbsp\; &nbsp\; &nbsp\; &nbsp\;Premio Club Bansander - Clasificaci
 ón Scratch Sábado\n[pdf-embedder url="https://golfmatalenas.es/wp-conten
 t/uploads/2025/11/Clasificacion-Scratch-BANSANDER.pdf" title="Clasificaci
 ón Scratch BANSANDER"]\n&nbsp\; &nbsp\; &nbsp\; &nbsp\; &nbsp\; &nbsp\;Pr
 emio Club Bansander - Clasificación Hándicap Sábado\n[pdf-embedder url=
 "https://golfmatalenas.es/wp-content/uploads/2025/11/Clasificacion-Handica
 p-BANSANDER.pdf" title="Clasificación Hándicap BANSANDER"]\n&nbsp\; &nbs
 p\; &nbsp\; &nbsp\; &nbsp\; &nbsp\;Premio Club Bansander - Clasificación 
 Stableford Bruto Domingo\n[pdf-embedder url="https://golfmatalenas.es/wp-c
 ontent/uploads/2025/11/Clasificacion-Stablefor-Bruto-CLUB-BANSANDER.pdf" t
 itle="Clasificación Stablefor Bruto CLUB BANSANDER"]\n&nbsp\; &nbsp\; &nb
 sp\; &nbsp\; &nbsp\; &nbsp\;Premio Club Bansander - Clasificación Stablef
 ord Neto Domingo\n[pdf-embedder url="https://golfmatalenas.es/wp-content/u
 ploads/2025/11/Clasificacion-Stableford-Neto-CLUB-BANSANDER.pdf" title="Cl
 asificación Stableford Neto CLUB BANSANDER"]
END:VEVENT
BEGIN:VTIMEZONE
TZID:Europe/Madrid
X-LIC-LOCATION:Europe/Madrid
BEGIN:STANDARD
DTSTART:20251026T020000
TZOFFSETFROM:+0200
TZOFFSETTO:+0100
TZNAME:CET
END:STANDARD
END:VTIMEZONE
END:VCALENDAR