BEGIN:VCALENDAR
VERSION:2.0
PRODID:-//wp-events-plugin.com//6.6.4//EN
BEGIN:VEVENT
UID:11@golfmatalenas.es
DTSTART;TZID=Europe/Madrid:20250823T090000
DTEND;TZID=Europe/Madrid:20250823T200000
DTSTAMP:20250824T104750Z
URL:https://golfmatalenas.es/events/torneo-mayfer-perfumes-parejas-indisti
 ntas/
SUMMARY:Torneo Mayfer Perfumes - Parejas Indistintas
DESCRIPTION:Información del Torneo Mayfer Perfumes\n\nEl miércoles 13/08/
 2025 se abre la inscripción para el Torneo de Parejas Indistintas\, patro
 cinado por Mayfer Perfumes y organizado por el Club de Golf Mataleñas\, q
 ue se celebrará el día 23/08/2025.&nbsp\;\n\nNota: En caso de completars
 e el cupo establecido de inscripciones\, la salida será al tiro a las 9:0
 0\n\n 	Reglamento\n 	Horario Salidas Sábado\n 	Clasificación Hándicap\n
  	Clasificación Scratch\n\nClasificación Hándicap\n[pdf-embedder url="h
 ttps://golfmatalenas.es/wp-content/uploads/2025/08/23-08-2025-Clasificacio
 n-Handicap.pdf" title="23-08-2025-Clasificación-Hándicap"]\n&nbsp\; &nbs
 p\; &nbsp\; &nbsp\; &nbsp\; &nbsp\; Clasificación Scratch\n[pdf-embedder 
 url="https://golfmatalenas.es/wp-content/uploads/2025/08/23082025-Clasific
 acion-Scratch.pdf" title="23082025-Clasificación-Scratch"]\nHorario de Sa
 lida Sábado 23-08-2025\n[pdf-embedder url="https://golfmatalenas.es/wp-co
 ntent/uploads/2025/08/23-08-2025-Salidas-Mayfer.pdf" title="23-08-2025 Sal
 idas Mayfer"]\n&nbsp\;Torneo Mayfer Perfumes 2025 - Reglamento\n[pdf-embed
 der url="https://golfmatalenas.es/wp-content/uploads/2025/08/Torneo-Mayfer
 -2025-Reglamento.pdf" title="Torneo Mayfer 2025\, Reglamento"]\n\n&nbsp\;
CATEGORIES:Absolutos
END:VEVENT
BEGIN:VTIMEZONE
TZID:Europe/Madrid
X-LIC-LOCATION:Europe/Madrid
BEGIN:DAYLIGHT
DTSTART:20250330T030000
TZOFFSETFROM:+0100
TZOFFSETTO:+0200
TZNAME:CEST
END:DAYLIGHT
END:VTIMEZONE
END:VCALENDAR