BEGIN:VCALENDAR
VERSION:2.0
PRODID:-//wp-events-plugin.com//6.6.4//EN
BEGIN:VEVENT
UID:40@golfmatalenas.es
DTSTART;TZID=Europe/Madrid:20261121T000000
DTEND;TZID=Europe/Madrid:20261122T000000
DTSTAMP:20260205T151245Z
URL:https://golfmatalenas.es/events/torneo-navidad-bansander/
SUMMARY:Torneo Navidad BANSANDER
DESCRIPTION:
CATEGORIES:Absolutos
END:VEVENT
BEGIN:VTIMEZONE
TZID:Europe/Madrid
X-LIC-LOCATION:Europe/Madrid
BEGIN:STANDARD
DTSTART:20261025T020000
TZOFFSETFROM:+0200
TZOFFSETTO:+0100
TZNAME:CET
END:STANDARD
END:VTIMEZONE
END:VCALENDAR