BEGIN:VCALENDAR
VERSION:2.0
PRODID:-//wp-events-plugin.com//6.6.4//EN
BEGIN:VEVENT
UID:18@golfmatalenas.es
DTSTART;TZID=Europe/Madrid:20260321T000000
DTEND;TZID=Europe/Madrid:20260322T000000
DTSTAMP:20260326T081152Z
URL:https://golfmatalenas.es/events/torneo-pitchputt-del-club/
SUMMARY:Copa Mataleñas Pitch&Putt 2026
DESCRIPTION:Información de la&nbsp\;"COPA MATALEÑAS PITCH&amp\;PUTT 2026"
 \nEl miércoles 11/03/20265 se abre la inscripción para la "Copa Mataleñ
 as Pitch&amp\;Putt 2026\, patrocinada y organizada por el Club de Golf Mat
 aleñas\, que se celebrará los días 21 y 22 de marzo 2026\n\n 	Reglament
 o\n 	Horario Salidas Sábado\n 	Clasificación Sábado\n 	Horario Salidas 
 Domingo\n 	Clasificación Domingo\n 	Clasificación Final\n 	Cuadro de Hon
 or\n\nCuadro de Honor\n[pdf-embedder url="https://golfmatalenas.es/wp-cont
 ent/uploads/2026/03/22-02-2026-Cuadro-de-Honor.pdf" title="22-02-2026 Cuad
 ro de Honor"]\nClasificación Final\n[pdf-embedder url="https://golfmatale
 nas.es/wp-content/uploads/2026/03/22-03-2026-Clasificacion-final.pdf" titl
 e="22-03-2026 Clasificacion final"]\nClasificación Domingo 22 de marzo\n[
 pdf-embedder url="https://golfmatalenas.es/wp-content/uploads/2026/03/22-0
 3-2026-Clasificacion-2a-jornada.pdf" title="22-03-2026 Clasificacion 2ª j
 ornada"]\nHorario de Salida Domingo 22 de marzo\n[pdf-embedder url="https:
 //golfmatalenas.es/wp-content/uploads/2026/03/22-03-2026-Salidas-2a-jornad
 a.pdf" title="22-03-2026 Salidas 2ª jornada"]\nClasificación Sábado 21 
 de marzo\n[pdf-embedder url="https://golfmatalenas.es/wp-content/uploads/2
 026/03/21-03-2026-Clasificacion-1a-jornada.pdf" title="21-03-2026 Clasific
 acion 1ª jornada"]\nHorario de Salida Sábado 21 de marzo\n[pdf-embedder 
 url="https://golfmatalenas.es/wp-content/uploads/2026/03/21-03-2026-HORARI
 O-DE-SALIDA.pdf" title="21-03-2026 HORARIO DE SALIDA"]\nCopa Mataleñas Pi
 tch&amp\;Putt 2026 - Reglamento\n[pdf-embedder url="https://golfmatalenas.
 es/wp-content/uploads/2026/03/Reglamento-de-la-Copa-Matalenas-PitchPutt-20
 26-1.pdf" title="Reglamento de la Copa Mataleñas Pitch&amp\;Putt 2026 1"]
 \n\n[pdf-embedder url="https://golfmatalenas.es/wp-content/uploads/2026/03
 /Reglamento-de-la-Copa-Matalenas-PitchPutt-2026-2.pdf" title="Reglamento d
 e la Copa Mataleñas Pitch&amp\;Putt 2026 2"]\n&nbsp\; &nbsp\; &nbsp\; &nb
 sp\; &nbsp\; Salidas Sábado\n&nbsp\;\n&nbsp\; &nbsp\; &nbsp\; &nbsp\; &nb
 sp\; Salidas Domingo\n&nbsp\;\n&nbsp\; &nbsp\; &nbsp\; &nbsp\; &nbsp\; Cla
 sificación Sábado\n&nbsp\;\n&nbsp\; &nbsp\; &nbsp\; &nbsp\; &nbsp\; Clas
 ificación Domingo\n&nbsp\;\n&nbsp\; &nbsp\; &nbsp\; &nbsp\;&nbsp\; Cuadro
  de Honor de la Copa Mataleñas Pitch&amp\;Putt 2026\n&nbsp\;
ATTACH;FMTTYPE=image/jpeg:https://golfmatalenas.es/wp-content/uploads/2025
 /05/h02-1.jpg
CATEGORIES:Pitch&amp;Putt
LOCATION:Campo Municipal de Golf “Mataleñas” Santander\, Av. del Faro\
 , s/n\, Santander\, Cantabria\, Santander\, Cantabria\, 39012 \, España
X-APPLE-STRUCTURED-LOCATION;VALUE=URI;X-ADDRESS=Av. del Faro\, s/n\, Santan
 der\, Cantabria\, Santander\, Cantabria\, 39012 \, España;X-APPLE-RADIUS=
 100;X-TITLE=Campo Municipal de Golf “Mataleñas” Santander:geo:0,0
END:VEVENT
BEGIN:VTIMEZONE
TZID:Europe/Madrid
X-LIC-LOCATION:Europe/Madrid
BEGIN:STANDARD
DTSTART:20251026T020000
TZOFFSETFROM:+0200
TZOFFSETTO:+0100
TZNAME:CET
END:STANDARD
END:VTIMEZONE
END:VCALENDAR